BEGIN:VCALENDAR
VERSION:2.0
PRODID:-//wp-events-plugin.com//7.2.3.1//EN
TZID:Europe/London
X-WR-TIMEZONE:Europe/London
BEGIN:VEVENT
UID:880@staffordharriers.org
DTSTART;TZID=Europe/London:20260613T024500
DTEND;TZID=Europe/London:20260613T034500
DTSTAMP:20260115T202820Z
URL:https://staffordharriers.org/events/wincle-trout/
SUMMARY:Wincle Trout
DESCRIPTION:more info\n\n&nbsp\;\n\n&nbsp\;
CATEGORIES:Harriers Challenge Races,Local Races
END:VEVENT
BEGIN:VTIMEZONE
TZID:Europe/London
X-LIC-LOCATION:Europe/London
BEGIN:DAYLIGHT
DTSTART:20260329T020000
TZOFFSETFROM:+0000
TZOFFSETTO:+0100
TZNAME:BST
END:DAYLIGHT
END:VTIMEZONE
END:VCALENDAR