BEGIN:VCALENDAR
VERSION:2.0
PRODID:-//wp-events-plugin.com//7.2.3.1//EN
TZID:Europe/London
X-WR-TIMEZONE:Europe/London
BEGIN:VEVENT
UID:3028@staffordharriers.org
DTSTART;TZID=Europe/London:20260516T000000
DTEND;TZID=Europe/London:20260516T000000
DTSTAMP:20260115T203051Z
URL:https://staffordharriers.org/events/white-peak-half-marathon-and-10k/
SUMMARY:White Peak Half Marathon and 10K
DESCRIPTION:more info
CATEGORIES:Harriers Challenge Races,Local Races
END:VEVENT
BEGIN:VTIMEZONE
TZID:Europe/London
X-LIC-LOCATION:Europe/London
BEGIN:DAYLIGHT
DTSTART:20260329T020000
TZOFFSETFROM:+0000
TZOFFSETTO:+0100
TZNAME:BST
END:DAYLIGHT
END:VTIMEZONE
END:VCALENDAR