BEGIN:VCALENDAR
VERSION:2.0
PRODID:-//wp-events-plugin.com//7.2.3.1//EN
TZID:Europe/London
X-WR-TIMEZONE:Europe/London
BEGIN:VEVENT
UID:3141@staffordharriers.org
DTSTART;TZID=Europe/London:20260422T180000
DTEND;TZID=Europe/London:20260422T190000
DTSTAMP:20260416T202423Z
URL:https://staffordharriers.org/events/wednesday-advanced-juniors-and-imp
 rovers-speed-session-cricket-club-2/
SUMMARY:Wednesday Advanced Juniors and Improvers Speed Session - Cricket Cl
 ub
DESCRIPTION:&nbsp\;\n\nChris Skellern will take a group of runners for a sp
 eed session.\nBooking is STILL requested for all of our sessions.\nWe cont
 inue using our online booking system for our training sessions and most so
 cial events. This allows our session leaders to see who is planning to arr
 ive.\n\nDon't worry if life gets in the way and you can't make the session
 \,  if you can please  Email info@staffordharriers.co.uk\n\nTo see your 
 booking please refresh the screen after booking.\n\n&nbsp\;\n\n&nbsp\;\n\n
 &nbsp\;
CATEGORIES:Training Sessions
LOCATION:Stafford Cricket & Hockey Club\, Brian Westhead Pavilion\, Staffor
 d\, Staffordshire\, United Kingdom
X-APPLE-STRUCTURED-LOCATION;VALUE=URI;X-ADDRESS=Brian Westhead Pavilion\, S
 tafford\, Staffordshire\, United Kingdom;X-APPLE-RADIUS=100;X-TITLE=Staffo
 rd Cricket & Hockey Club:geo:0,0
END:VEVENT
BEGIN:VTIMEZONE
TZID:Europe/London
X-LIC-LOCATION:Europe/London
BEGIN:DAYLIGHT
DTSTART:20260329T020000
TZOFFSETFROM:+0000
TZOFFSETTO:+0100
TZNAME:BST
END:DAYLIGHT
END:VTIMEZONE
END:VCALENDAR