BEGIN:VCALENDAR
VERSION:2.0
PRODID:-//wp-events-plugin.com//7.2.3.1//EN
TZID:Europe/London
X-WR-TIMEZONE:Europe/London
BEGIN:VEVENT
UID:3144@staffordharriers.org
DTSTART;TZID=Europe/London:20260429T180000
DTEND;TZID=Europe/London:20260429T190000
DTSTAMP:20260423T194024Z
URL:https://staffordharriers.org/events/wednesday-5k-time-trial-castlefiel
 ds-car-park/
SUMMARY:Wednesday 5K Time Trial - Castlefields Car Park
DESCRIPTION:Monthly time trials at Castlefields Car Park\, the last Wednesd
 ay of each month (April – September)\, 6 for 6:15pm start. These are gre
 at for checking your progress.\n\nA run down the disused railway to Derrin
 gton and back. Times will be reported in the Race Reports Pages.\n\n&nbsp\
 ;\nBooking is STILL requested for all of our sessions.\nWe continue using 
 our online booking system for our training sessions and most social events
 . This allows our session leaders to see who is planning to arrive.\n\nDon
 't worry if life gets in the way and you can't make the session\,  if you
  can please  Email info@staffordharriers.co.uk\n\nTo see your booking ple
 ase refresh the screen after booking.\n\n&nbsp\;\n\n&nbsp\;
CATEGORIES:Training Sessions
LOCATION:Castlefields Car Park\, Martin Drive\, Stafford\, United Kingdom
X-APPLE-STRUCTURED-LOCATION;VALUE=URI;X-ADDRESS=Martin Drive\, Stafford\, U
 nited Kingdom;X-APPLE-RADIUS=100;X-TITLE=Castlefields Car Park:geo:0,0
END:VEVENT
BEGIN:VTIMEZONE
TZID:Europe/London
X-LIC-LOCATION:Europe/London
BEGIN:DAYLIGHT
DTSTART:20260329T020000
TZOFFSETFROM:+0000
TZOFFSETTO:+0100
TZNAME:BST
END:DAYLIGHT
END:VTIMEZONE
END:VCALENDAR