BEGIN:VCALENDAR
VERSION:2.0
PRODID:-//wp-events-plugin.com//7.2.3.1//EN
TZID:Europe/London
X-WR-TIMEZONE:Europe/London
BEGIN:VEVENT
UID:755@staffordharriers.org
DTSTART;TZID=Europe/London:20270101T093000
DTEND;TZID=Europe/London:20270101T130000
DTSTAMP:20260402T173749Z
URL:https://staffordharriers.org/events/vernon-bare-wrist-race/
SUMMARY:Vernon Bare Wrist Race
DESCRIPTION:One of our races\n\nsee our race page for more info\n2026 Timin
 g below tbc\nTimetable on the day\;\n\n\n\nNew Years Day\n9:30 am\nHQ (Rug
 by club) opens for bib collection and on-the-day entry (cash only)\n\n\nNe
 w Years Day\n11 am\nHQ closes\n\n\nNew Years Day\n11:15 am\nRace start\n\n
 \nNew Years Day\n1pm\nPrize Presentation @ Rugby Club\n\n\n\n&nbsp\;\n\n&n
 bsp\;
CATEGORIES:Local Races
LOCATION:Rugby Club\, Blackberry Lane\, Stafford\, ST16 2TT\, United Kingdo
 m
X-APPLE-STRUCTURED-LOCATION;VALUE=URI;X-ADDRESS=Blackberry Lane\, Stafford\
 , ST16 2TT\, United Kingdom;X-APPLE-RADIUS=100;X-TITLE=Rugby Club:geo:0,0
END:VEVENT
BEGIN:VTIMEZONE
TZID:Europe/London
X-LIC-LOCATION:Europe/London
BEGIN:STANDARD
DTSTART:20261025T010000
TZOFFSETFROM:+0100
TZOFFSETTO:+0000
TZNAME:GMT
END:STANDARD
END:VTIMEZONE
END:VCALENDAR