BEGIN:VCALENDAR
VERSION:2.0
PRODID:-//wp-events-plugin.com//7.2.3.1//EN
TZID:Europe/London
X-WR-TIMEZONE:Europe/London
BEGIN:VEVENT
UID:791@staffordharriers.org
DTSTART;TZID=Europe/London:20260715T183000
DTEND;TZID=Europe/London:20260715T203000
DTSTAMP:20260102T203648Z
URL:https://staffordharriers.org/events/staffs-knot-5-mile/
SUMMARY:Staffs Knot 5 mile and fun run
DESCRIPTION:For more information about this event click here\n\n&nbsp\;\n\n
 &nbsp\;
CATEGORIES:Local Races,NSRRA Race
LOCATION:Marquis Drive Visitor Centre\, Marquis Drive\, Cannock\, WS12 4PW\
 , United Kingdom
X-APPLE-STRUCTURED-LOCATION;VALUE=URI;X-ADDRESS=Marquis Drive\, Cannock\, W
 S12 4PW\, United Kingdom;X-APPLE-RADIUS=100;X-TITLE=Marquis Drive Visitor 
 Centre:geo:0,0
END:VEVENT
BEGIN:VTIMEZONE
TZID:Europe/London
X-LIC-LOCATION:Europe/London
BEGIN:DAYLIGHT
DTSTART:20260329T020000
TZOFFSETFROM:+0000
TZOFFSETTO:+0100
TZNAME:BST
END:DAYLIGHT
END:VTIMEZONE
END:VCALENDAR