BEGIN:VCALENDAR
VERSION:2.0
PRODID:-//wp-events-plugin.com//7.2.3.1//EN
TZID:Europe/London
X-WR-TIMEZONE:Europe/London
BEGIN:VEVENT
UID:806@staffordharriers.org
DTSTART;TZID=Europe/London:20260430T190000
DTEND;TZID=Europe/London:20260430T200000
DTSTAMP:20260320T195113Z
URL:https://staffordharriers.org/events/spring-treble-3/
SUMMARY:Spring Treble 3
DESCRIPTION:A series of 3 races\n\n16th April – Kibblestone Klamber\n\n23
 th April – Marquis Mayhem\, Cannock Chase\n\n30th April – Common Cante
 r\, Stone Common Plot\n\nStone Common Plot &amp\; Lymestone Brewery\n\nIt
 ’s been a long held ambition of ours to hold a Spring Treble event at th
 e Common Plot in Stone\, and we’re delighted to have secured permission 
 for 2026. This is a great 2 lap route taking in the “undulations” of t
 he area and the most delightful wooded paths\, we think this will be a fan
 tastic edition to our series. After the race\, the final event of the seri
 es\, we’ll adjourn to the Lymestone Brewery for drinks and the series pr
 ize giving\, parking will also be at the upper car park by the brewery.\n\
 nmore info
CATEGORIES:Harriers Challenge Races,Local Races
END:VEVENT
BEGIN:VTIMEZONE
TZID:Europe/London
X-LIC-LOCATION:Europe/London
BEGIN:DAYLIGHT
DTSTART:20260329T020000
TZOFFSETFROM:+0000
TZOFFSETTO:+0100
TZNAME:BST
END:DAYLIGHT
END:VTIMEZONE
END:VCALENDAR