BEGIN:VCALENDAR
VERSION:2.0
PRODID:-//wp-events-plugin.com//7.2.3.1//EN
TZID:Europe/London
X-WR-TIMEZONE:Europe/London
BEGIN:VEVENT
UID:805@staffordharriers.org
DTSTART;TZID=Europe/London:20260423T190000
DTEND;TZID=Europe/London:20260423T200000
DTSTAMP:20260320T195116Z
URL:https://staffordharriers.org/events/spring-treble-2-2/
SUMMARY:Spring Treble 2 – Marquis Mayhem\, Cannock Chase
DESCRIPTION:A series of 3 races\n\n16th April – Kibblestone Klamber\n\n23
 th April – Marquis Mayhem\, Cannock Chase\n\n30th April – Common Cante
 r\, Stone Common Plot\n\nCannock Chase\n\nWe’ll be returning to the Marq
 uis Mayhem course from recent years around the delightful Cannock Chase\, 
 accessed from Marquis Drive.\n\n&nbsp\;\n\nmore info
CATEGORIES:Harriers Challenge Races,Local Races
END:VEVENT
BEGIN:VTIMEZONE
TZID:Europe/London
X-LIC-LOCATION:Europe/London
BEGIN:DAYLIGHT
DTSTART:20260329T020000
TZOFFSETFROM:+0000
TZOFFSETTO:+0100
TZNAME:BST
END:DAYLIGHT
END:VTIMEZONE
END:VCALENDAR