BEGIN:VCALENDAR
VERSION:2.0
PRODID:-//wp-events-plugin.com//7.2.3.1//EN
TZID:Europe/London
X-WR-TIMEZONE:Europe/London
BEGIN:VEVENT
UID:802@staffordharriers.org
DTSTART;TZID=Europe/London:20270314T093000
DTEND;TZID=Europe/London:20270314T093000
DTSTAMP:20260304T165058Z
URL:https://staffordharriers.org/events/nantwich-10k/
SUMMARY:Nantwich 10k
DESCRIPTION:more info
CATEGORIES:Local Races
END:VEVENT
BEGIN:VTIMEZONE
TZID:Europe/London
X-LIC-LOCATION:Europe/London
BEGIN:STANDARD
DTSTART:20261025T010000
TZOFFSETFROM:+0100
TZOFFSETTO:+0000
TZNAME:GMT
END:STANDARD
END:VTIMEZONE
END:VCALENDAR