BEGIN:VCALENDAR
VERSION:2.0
PRODID:-//wp-events-plugin.com//7.2.3.1//EN
TZID:Europe/London
X-WR-TIMEZONE:Europe/London
BEGIN:VEVENT
UID:3128@staffordharriers.org
DTSTART;TZID=Europe/London:20260420T180000
DTEND;TZID=Europe/London:20260420T190000
DTSTAMP:20260416T202127Z
URL:https://staffordharriers.org/events/monday-improvers-road-run-cricket-
 club/
SUMMARY:Monday Improvers Road Run - Cricket Club
DESCRIPTION:&nbsp\;\n\nColin Mitchell will take a group of runners for a ro
 ad run. approx 4 miles (6.5km) to 5 miles (8km). \n\nBooking is STILL req
 uested for all of our sessions.\nWe continue using our online booking syst
 em for our training sessions and most social events. This allows our sessi
 on leaders to see who is planning to arrive.\n\nDon't worry if life gets i
 n the way and you can't make the session\,  if you can please  Email inf
 o@staffordharriers.co.uk\n\nTo see your booking please refresh the screen 
 after booking.\n\n&nbsp\;\n\n&nbsp\;
CATEGORIES:Training Sessions
LOCATION:Stafford Cricket & Hockey Club\, Brian Westhead Pavilion\, Staffor
 d\, Staffordshire\, United Kingdom
X-APPLE-STRUCTURED-LOCATION;VALUE=URI;X-ADDRESS=Brian Westhead Pavilion\, S
 tafford\, Staffordshire\, United Kingdom;X-APPLE-RADIUS=100;X-TITLE=Staffo
 rd Cricket & Hockey Club:geo:0,0
END:VEVENT
BEGIN:VTIMEZONE
TZID:Europe/London
X-LIC-LOCATION:Europe/London
BEGIN:DAYLIGHT
DTSTART:20260329T020000
TZOFFSETFROM:+0000
TZOFFSETTO:+0100
TZNAME:BST
END:DAYLIGHT
END:VTIMEZONE
END:VCALENDAR