BEGIN:VCALENDAR
VERSION:2.0
PRODID:-//wp-events-plugin.com//7.2.3.1//EN
TZID:Europe/London
X-WR-TIMEZONE:Europe/London
BEGIN:VEVENT
UID:2938@staffordharriers.org
DTSTART;TZID=Europe/London;VALUE=DATE:20261004
DTEND;TZID=Europe/London;VALUE=DATE:20261005
DTSTAMP:20251109T213238Z
URL:https://staffordharriers.org/events/manchester-half/
SUMMARY:Manchester Half
DESCRIPTION:more info\n\n&nbsp\;
CATEGORIES:Local Races
END:VEVENT
BEGIN:VTIMEZONE
TZID:Europe/London
X-LIC-LOCATION:Europe/London
BEGIN:DAYLIGHT
DTSTART:20260329T020000
TZOFFSETFROM:+0000
TZOFFSETTO:+0100
TZNAME:BST
END:DAYLIGHT
END:VTIMEZONE
END:VCALENDAR