BEGIN:VCALENDAR
VERSION:2.0
PRODID:-//wp-events-plugin.com//7.2.3.1//EN
TZID:Europe/London
X-WR-TIMEZONE:Europe/London
BEGIN:VEVENT
UID:787@staffordharriers.org
DTSTART;TZID=Europe/London:20260719T103000
DTEND;TZID=Europe/London:20260719T123000
DTSTAMP:20260115T193624Z
URL:https://staffordharriers.org/events/ipstone-5ish-mile/
SUMMARY:Ipstone 5ish mile
DESCRIPTION:The senior race starts at 1030 on Sunday.\n\nmore info
CATEGORIES:Harriers Challenge Races,Local Races,NSRRA Race
END:VEVENT
BEGIN:VTIMEZONE
TZID:Europe/London
X-LIC-LOCATION:Europe/London
BEGIN:DAYLIGHT
DTSTART:20260329T020000
TZOFFSETFROM:+0000
TZOFFSETTO:+0100
TZNAME:BST
END:DAYLIGHT
END:VTIMEZONE
END:VCALENDAR