BEGIN:VCALENDAR
VERSION:2.0
PRODID:-//wp-events-plugin.com//7.2.3.1//EN
TZID:Europe/London
X-WR-TIMEZONE:Europe/London
BEGIN:VEVENT
UID:1175@staffordharriers.org
DTSTART;TZID=Europe/London:20260610T190000
DTEND;TZID=Europe/London:20260610T210000
DTSTAMP:20260115T203705Z
URL:https://staffordharriers.org/events/harriers-showground-relays/
SUMMARY:Harriers Showground Relays
DESCRIPTION:Teams of four each complete a 2 mile leg.\n\nFor more informati
 on see
CATEGORIES:Local Races
LOCATION:County Showground\, Weston Bank\, Stafford\, ST18 0BD\, United Kin
 gdom
X-APPLE-STRUCTURED-LOCATION;VALUE=URI;X-ADDRESS=Weston Bank\, Stafford\, ST
 18 0BD\, United Kingdom;X-APPLE-RADIUS=100;X-TITLE=County Showground:geo:0
 ,0
END:VEVENT
BEGIN:VTIMEZONE
TZID:Europe/London
X-LIC-LOCATION:Europe/London
BEGIN:DAYLIGHT
DTSTART:20260329T020000
TZOFFSETFROM:+0000
TZOFFSETTO:+0100
TZNAME:BST
END:DAYLIGHT
END:VTIMEZONE
END:VCALENDAR