BEGIN:VCALENDAR
VERSION:2.0
PRODID:-//wp-events-plugin.com//7.2.3.1//EN
TZID:Europe/London
X-WR-TIMEZONE:Europe/London
BEGIN:VEVENT
UID:2656@staffordharriers.org
DTSTART;TZID=Europe/London:20260503T000000
DTEND;TZID=Europe/London:20260503T000000
DTSTAMP:20250701T122725Z
URL:https://staffordharriers.org/events/great-birmingham-run/
SUMMARY:Great Birmingham Run
DESCRIPTION:Both 10K and Half\n\nmore info
CATEGORIES:Local Races
END:VEVENT
BEGIN:VTIMEZONE
TZID:Europe/London
X-LIC-LOCATION:Europe/London
BEGIN:DAYLIGHT
DTSTART:20260329T020000
TZOFFSETFROM:+0000
TZOFFSETTO:+0100
TZNAME:BST
END:DAYLIGHT
END:VTIMEZONE
END:VCALENDAR