BEGIN:VCALENDAR
VERSION:2.0
PRODID:-//wp-events-plugin.com//7.2.3.1//EN
TZID:Europe/London
X-WR-TIMEZONE:Europe/London
BEGIN:VEVENT
UID:799@staffordharriers.org
DTSTART;TZID=Europe/London:20260613T103000
DTEND;TZID=Europe/London:20260613T153000
DTSTAMP:20250615T132848Z
URL:https://staffordharriers.org/events/gnosall-10k/
SUMMARY:Gnosall 10k (ish!)
DESCRIPTION:Gnosall Globetrotters Running Club are hosting the annual multi
 -terrain Gnosall 10K (actually 11.2k!) on Saturday 13th June at 10.30am.\n
 &nbsp\;\nOur friendly\, picturesque\, race is set in the village of Gnosal
 l and open to runners of all abilities.\nThe race incorporates the Shropsh
 ire Union Canal\, a disused railway line\, farm lanes and fields and is ar
 guably the most beautiful 10K in Staffordshire.\n&nbsp\;\nAll finishers re
 ceive a fab technical t-shirt along with yummy goodies\n&nbsp\;\nThis year
 \, we will also be hosting a chip-timed fun run for little ones (and all t
 he family) in the race field at Gnosall Family Sports Club. For spectators
  who would like to support runners across the finish line\, we have a play
 park and bouncy castle for children at the Sports Club along with stalls\,
  hot food and the club bar.\nENTER ON LINE
CATEGORIES:Local Races
END:VEVENT
BEGIN:VTIMEZONE
TZID:Europe/London
X-LIC-LOCATION:Europe/London
BEGIN:DAYLIGHT
DTSTART:20260329T020000
TZOFFSETFROM:+0000
TZOFFSETTO:+0100
TZNAME:BST
END:DAYLIGHT
END:VTIMEZONE
END:VCALENDAR