BEGIN:VCALENDAR
VERSION:2.0
PRODID:-//wp-events-plugin.com//7.2.3.1//EN
TZID:Europe/London
X-WR-TIMEZONE:Europe/London
BEGIN:VEVENT
UID:3136@staffordharriers.org
DTSTART;TZID=Europe/London:20260424T180000
DTEND;TZID=Europe/London:20260424T190000
DTSTAMP:20260416T203237Z
URL:https://staffordharriers.org/events/friday-improvers-chase-run-punch-b
 owl/
SUMMARY:Friday Improvers Chase Run - Punch Bowl
DESCRIPTION:Summer routine:\nDuring the summer we take turns running from S
 tafford Castle and the Chase. These are an introduction to run off road. W
 e run at the Improvers speed\, but due to the terrain we will cover less d
 istance than road running.\n\n&nbsp\;\n\nColin Mitchell and Chris Skellern
  will take a group of runners for off road run. approx 4 miles (6.5km). \
 n\n&nbsp\;\nBooking is STILL requested for all of our sessions.\nWe contin
 ue using our online booking system for our training sessions and most soci
 al events. This allows our session leaders to see who is planning to arriv
 e.\n\nDon't worry if life gets in the way and you can't make the session\,
   if you can please  Email info@staffordharriers.co.uk\n\nTo see your bo
 oking please refresh the screen after booking.\n\n&nbsp\;\n\n&nbsp\;\n\n&n
 bsp\;
CATEGORIES:Training Sessions
LOCATION:Glacial Boulder Car Park\, Chase Road\, Brocton\, United Kingdom
X-APPLE-STRUCTURED-LOCATION;VALUE=URI;X-ADDRESS=Chase Road\, Brocton\, Unit
 ed Kingdom;X-APPLE-RADIUS=100;X-TITLE=Glacial Boulder Car Park:geo:0,0
END:VEVENT
BEGIN:VTIMEZONE
TZID:Europe/London
X-LIC-LOCATION:Europe/London
BEGIN:DAYLIGHT
DTSTART:20260329T020000
TZOFFSETFROM:+0000
TZOFFSETTO:+0100
TZNAME:BST
END:DAYLIGHT
END:VTIMEZONE
END:VCALENDAR