BEGIN:VCALENDAR
VERSION:2.0
PRODID:-//wp-events-plugin.com//7.2.3.1//EN
TZID:Europe/London
X-WR-TIMEZONE:Europe/London
BEGIN:VEVENT
UID:1373@staffordharriers.org
DTSTART;TZID=Europe/London:20260813T191500
DTEND;TZID=Europe/London:20260813T201500
DTSTAMP:20260102T203847Z
URL:https://staffordharriers.org/events/dave-clarke-5k/
SUMMARY:Dave Clarke 5K
DESCRIPTION:more info\n\n&nbsp\;\n\nReserve race for NSRRA
CATEGORIES:Local Races,NSRRA Race
END:VEVENT
BEGIN:VTIMEZONE
TZID:Europe/London
X-LIC-LOCATION:Europe/London
BEGIN:DAYLIGHT
DTSTART:20260329T020000
TZOFFSETFROM:+0000
TZOFFSETTO:+0100
TZNAME:BST
END:DAYLIGHT
END:VTIMEZONE
END:VCALENDAR