BEGIN:VCALENDAR
VERSION:2.0
PRODID:-//wp-events-plugin.com//7.2.3.1//EN
TZID:Europe/London
X-WR-TIMEZONE:Europe/London
BEGIN:VEVENT
UID:1371@staffordharriers.org
DTSTART;TZID=Europe/London:20261025T093000
DTEND;TZID=Europe/London:20261025T103000
DTSTAMP:20251109T212917Z
URL:https://staffordharriers.org/events/crewe-10k/
SUMMARY:Crewe 10K
DESCRIPTION:more info
CATEGORIES:Local Races
END:VEVENT
BEGIN:VTIMEZONE
TZID:Europe/London
X-LIC-LOCATION:Europe/London
BEGIN:STANDARD
DTSTART:20261025T010000
TZOFFSETFROM:+0100
TZOFFSETTO:+0000
TZNAME:GMT
END:STANDARD
END:VTIMEZONE
END:VCALENDAR