BEGIN:VCALENDAR
VERSION:2.0
PRODID:-//wp-events-plugin.com//7.2.3.1//EN
TZID:Europe/London
X-WR-TIMEZONE:Europe/London
BEGIN:VEVENT
UID:785@staffordharriers.org
DTSTART;TZID=Europe/London:20260513T191500
DTEND;TZID=Europe/London:20260513T201500
DTSTAMP:20260102T204215Z
URL:https://staffordharriers.org/events/clayton-10k/
SUMMARY:Clayton 10K
DESCRIPTION:More info\n\n&nbsp\;\n\n&nbsp\;
CATEGORIES:Local Races,NSRRA Race
END:VEVENT
BEGIN:VTIMEZONE
TZID:Europe/London
X-LIC-LOCATION:Europe/London
BEGIN:DAYLIGHT
DTSTART:20260329T020000
TZOFFSETFROM:+0000
TZOFFSETTO:+0100
TZNAME:BST
END:DAYLIGHT
END:VTIMEZONE
END:VCALENDAR