BEGIN:VCALENDAR
VERSION:2.0
PRODID:-//wp-events-plugin.com//7.2.3.1//EN
TZID:Europe/London
X-WR-TIMEZONE:Europe/London
BEGIN:VEVENT
UID:735@staffordharriers.org
DTSTART;TZID=Europe/London:20260524T100000
DTEND;TZID=Europe/London:20260524T150000
DTSTAMP:20260115T205148Z
URL:https://staffordharriers.org/events/buxton-half-marathon/
SUMMARY:Buxton Half Marathon
DESCRIPTION:\n\nFurther info at www.buxtonhalf.com\n
CATEGORIES:Local Races
END:VEVENT
BEGIN:VTIMEZONE
TZID:Europe/London
X-LIC-LOCATION:Europe/London
BEGIN:DAYLIGHT
DTSTART:20260329T020000
TZOFFSETFROM:+0000
TZOFFSETTO:+0100
TZNAME:BST
END:DAYLIGHT
END:VTIMEZONE
END:VCALENDAR