BEGIN:VCALENDAR
VERSION:2.0
PRODID:-//wp-events-plugin.com//7.2.3.1//EN
TZID:Europe/London
X-WR-TIMEZONE:Europe/London
BEGIN:VEVENT
UID:811@staffordharriers.org
DTSTART;TZID=Europe/London:20260704T080000
DTEND;TZID=Europe/London:20260704T133000
DTSTAMP:20260115T205907Z
URL:https://staffordharriers.org/events/black-country-half/
SUMMARY:Black Country Half
DESCRIPTION:\n\n\n\nfor more info\n\n\n\n\n\n
CATEGORIES:Local Races
END:VEVENT
BEGIN:VTIMEZONE
TZID:Europe/London
X-LIC-LOCATION:Europe/London
BEGIN:DAYLIGHT
DTSTART:20260329T020000
TZOFFSETFROM:+0000
TZOFFSETTO:+0100
TZNAME:BST
END:DAYLIGHT
END:VTIMEZONE
END:VCALENDAR