BEGIN:VCALENDAR
VERSION:2.0
PRODID:-//wp-events-plugin.com//7.2.3.1//EN
TZID:Europe/London
X-WR-TIMEZONE:Europe/London
BEGIN:VEVENT
UID:1420@staffordharriers.org
DTSTART;TZID=Europe/London;VALUE=DATE:20260614
DTEND;TZID=Europe/London;VALUE=DATE:20260615
DTSTAMP:20260115T205429Z
URL:https://staffordharriers.org/events/aldridge-running-festival/
SUMMARY:Aldridge Running Festival
DESCRIPTION:more info\n\n&nbsp\;
CATEGORIES:Local Races
END:VEVENT
BEGIN:VTIMEZONE
TZID:Europe/London
X-LIC-LOCATION:Europe/London
BEGIN:DAYLIGHT
DTSTART:20260329T020000
TZOFFSETFROM:+0000
TZOFFSETTO:+0100
TZNAME:BST
END:DAYLIGHT
END:VTIMEZONE
END:VCALENDAR