BEGIN:VCALENDAR
VERSION:2.0
PRODID:-//wp-events-plugin.com//7.2.3.1//EN
TZID:Europe/London
X-WR-TIMEZONE:Europe/London
BEGIN:VEVENT
UID:2499@staffordharriers.org
DTSTART;TZID=Europe/London:20260531T000000
DTEND;TZID=Europe/London:20260531T000000
DTSTAMP:20260115T202203Z
URL:https://staffordharriers.org/events/9-locks-challenge/
SUMMARY:9 Locks Challenge
DESCRIPTION:Only the 31st May event is in the Harriers Challenge 2025\n\n&n
 bsp\;\n\nmore info
CATEGORIES:Harriers Challenge Races,Local Races
END:VEVENT
BEGIN:VTIMEZONE
TZID:Europe/London
X-LIC-LOCATION:Europe/London
BEGIN:DAYLIGHT
DTSTART:20260329T020000
TZOFFSETFROM:+0000
TZOFFSETTO:+0100
TZNAME:BST
END:DAYLIGHT
END:VTIMEZONE
END:VCALENDAR